BEGIN:VCALENDAR
VERSION:2.0
PRODID:-//Genoa Club Rapallo 1968 - ECPv6.15.11//NONSGML v1.0//EN
CALSCALE:GREGORIAN
METHOD:PUBLISH
X-WR-CALNAME:Genoa Club Rapallo 1968
X-ORIGINAL-URL:https://genoaclubrapallo1968.org
X-WR-CALDESC:Eventi per Genoa Club Rapallo 1968
REFRESH-INTERVAL;VALUE=DURATION:PT1H
X-Robots-Tag:noindex
X-PUBLISHED-TTL:PT1H
BEGIN:VTIMEZONE
TZID:Europe/Paris
BEGIN:DAYLIGHT
TZOFFSETFROM:+0100
TZOFFSETTO:+0200
TZNAME:CEST
DTSTART:20140330T010000
END:DAYLIGHT
BEGIN:STANDARD
TZOFFSETFROM:+0200
TZOFFSETTO:+0100
TZNAME:CET
DTSTART:20141026T010000
END:STANDARD
BEGIN:DAYLIGHT
TZOFFSETFROM:+0100
TZOFFSETTO:+0200
TZNAME:CEST
DTSTART:20150329T010000
END:DAYLIGHT
BEGIN:STANDARD
TZOFFSETFROM:+0200
TZOFFSETTO:+0100
TZNAME:CET
DTSTART:20151025T010000
END:STANDARD
BEGIN:DAYLIGHT
TZOFFSETFROM:+0100
TZOFFSETTO:+0200
TZNAME:CEST
DTSTART:20160327T010000
END:DAYLIGHT
BEGIN:STANDARD
TZOFFSETFROM:+0200
TZOFFSETTO:+0100
TZNAME:CET
DTSTART:20161030T010000
END:STANDARD
BEGIN:DAYLIGHT
TZOFFSETFROM:+0100
TZOFFSETTO:+0200
TZNAME:CEST
DTSTART:20170326T010000
END:DAYLIGHT
BEGIN:STANDARD
TZOFFSETFROM:+0200
TZOFFSETTO:+0100
TZNAME:CET
DTSTART:20171029T010000
END:STANDARD
END:VTIMEZONE
BEGIN:VEVENT
DTSTART;TZID=Europe/Paris:20160320T002500
DTEND;TZID=Europe/Paris:20160321T082000
DTSTAMP:20260421T115945
CREATED:20160304T094852Z
LAST-MODIFIED:20160308T160126Z
UID:716-1458433500-1458548400@genoaclubrapallo1968.org
SUMMARY:Trasferta Napoli - Genoa
DESCRIPTION:I Figgi dö Zena organizzano il treno per la trasferta del Genoa con il Napoli; Domenica 20 marzo. \nPartenza da Rapallo alle 0:28 di domenica 20  con arrivo a Napoli alle 8:17. \nRitorno alle 21:46 da Napoli con arrivo a Rapallo alle 5:28 del lunedì mattina. \nCosto 78 Euro \nContattare Enrico Salis al 335 6373679 \n  \n  \n  \nCondividi:
URL:https://genoaclubrapallo1968.org/eventi/trasferta-napoli-genoa/
LOCATION:Stadio San Paolo\, Piazzale Vincenzo Tecchio\, Napoli\, Napoli\, 80125\, Italia
CATEGORIES:Trasferta
ORGANIZER;CN="Enrico Salis":MAILTO:colorparati@gmail.com
END:VEVENT
BEGIN:VEVENT
DTSTART;TZID=Europe/Paris:20150517T090000
DTEND;TZID=Europe/Paris:20150517T200000
DTSTAMP:20260421T115945
CREATED:20150513T143601Z
LAST-MODIFIED:20150513T143602Z
UID:544-1431853200-1431892800@genoaclubrapallo1968.org
SUMMARY:Pullman trasferta Bergamo per Atalanta - Genoa
DESCRIPTION:Il Genoa club Figgi do Zena SEZIONE LEVANTE e il Genoa Club Rapallo 1968 organizzano il pullman per la trasferta di Bergamo di domenica prossima.\nPartenza domenica 17 maggio ore 9.00 da Piazza delle Nazioni a Rapallo. È possibile accogliere richieste anche su Genova! Per info e prenotazioni chiamare Andrea 3458575285 oppure Enrico 3356373679 \n  \nForza Genoa ! \nCondividi:
URL:https://genoaclubrapallo1968.org/eventi/pullman-trasferta-bergamo-per-atalanta-genoa/
LOCATION:Piazza delle Nazioni\, Piazza delle Nazioni\, Rapallo\, GE\, 16035\, Italia
CATEGORIES:Trasferta
END:VEVENT
END:VCALENDAR